BEGIN:VCALENDAR
VERSION:2.0
PRODID:-//Hayes Muslim Centre - ECPv4.6.16//NONSGML v1.0//EN
CALSCALE:GREGORIAN
METHOD:PUBLISH
X-WR-CALNAME:Hayes Muslim Centre
X-ORIGINAL-URL:https://hayesmuslimcentre.org.uk
X-WR-CALDESC:Events for Hayes Muslim Centre
BEGIN:VEVENT
DTSTART;TZID=UTC+1:20260201T130000
DTEND;TZID=UTC+1:20260201T160000
DTSTAMP:20260425T195713
CREATED:20251231T142931Z
LAST-MODIFIED:20260103T144149Z
UID:8426-1769950800-1769961600@hayesmuslimcentre.org.uk
SUMMARY:Marriage Event - Practicing Muslim
DESCRIPTION:Hayes Muslim Centre is organising an “Marriage Introduction Event” in partnership with Coolness of Your Eyes. \nWe’re planning a respectful marriage event to help practising Muslim brothers and sisters meet potential spouses in a safe\, dignified way — working to keep within halal boundaries as far as possible. This is why we are keen to hold the event in religious spaces and trusted community environments. \nEvent Details\n \n– **Date:** Sunday\, 1st Feb 2026 \n– **Time:** 1:00 PM – 4:00 PM \n– **Duration:** 3 hours \n– **Venue:** Hayes Muslim Centre \n– **Capacity:** 30 practising Muslims (15 sisters\, 15 brothers) \n– **Ticket:** £30 per person \nWhat’s Included\n• Supervised introductions in a halal\, structured environment \nParticipation Process\n• Each participant completes a marriage profile \nOur aim is to serve the community in a halal\, responsible\, and respectful way — making it easier for sincere practising Muslims to find compatible spouses while keeping everything within Islamic guidelines. \nEvent Format\n• 1:00 – 1:15 Registration & refreshments \n• 1:15 – 1:30 Welcome\, format introduction\, Imam’s reminder on intention\, taqwa and marriage + dua \n• 1:30 – 2:00 Table rotations (guided questions + own questions) \n• 2:00 – 2:30 1:1 conversations \n• 2:30 – 2:45 Wrap-up\, coaching offer \n  \nClick here to REGISTER \n
URL:https://hayesmuslimcentre.org.uk/event/marriage-event-practicing-muslim/
LOCATION:3 Pump Lane\, London\, UB3 3NB\, United Kingdom
CATEGORIES:Community,Lecture
ATTACH;FMTTYPE=image/jpeg:https://hayesmuslimcentre.org.uk/wp-content/uploads/2025/11/HMC-Marriage-Event-COYE-2025-webpost.jpg
ORGANIZER;CN="Hayes%20Muslim%20Centre":MAILTO:Info@HayesMuslimCentre.org.uk
END:VEVENT
END:VCALENDAR