BEGIN:VCALENDAR
VERSION:2.0
PRODID:-//Hayes Muslim Centre - ECPv4.6.16//NONSGML v1.0//EN
CALSCALE:GREGORIAN
METHOD:PUBLISH
X-WR-CALNAME:Hayes Muslim Centre
X-ORIGINAL-URL:https://hayesmuslimcentre.org.uk
X-WR-CALDESC:Events for Hayes Muslim Centre
BEGIN:VEVENT
DTSTART;VALUE=DATE:20260524
DTEND;VALUE=DATE:20260525
DTSTAMP:20260425T144603
CREATED:20260413T193304Z
LAST-MODIFIED:20260415T160446Z
UID:4924-1779580800-1779667199@hayesmuslimcentre.org.uk
SUMMARY:Qurbani Project 2026(Deadline 24-5-2026)
DESCRIPTION:Hayes Muslim Centre Qurbani Project 2026. Muslim Centre have made arrangements for Qurbani in India\, Kenya and Uganda. You can contribute in given categories \nLarge Animal = £110 (7 Shares and £16 per share in India) \nSheep / Goat = £50 (Kenya and Uganda) \nAll Qurbani meat will be distributed to the poor and needy. \nIf you would like us to arrange your Qurbani. please contact the office before 24th May 2026. \nYou can pay in person by cash or card by contacting the office on 0208 561 7149 or 07538389372 \n \nby Bank transfer (details below) \nAccount name: Islamic Education & Cultural Society (Hayes) \nSort Code: 20-38-83 \nAccount No: 20683035 \nReference: QUR IND for full cow or QUR IND S1\, S2\, … (S for share\, followed by no. of shares) \nQUR UGD for sheep/ goat in Uganda \nQUR KEN for sheep/ goat in Kenya \n  \nQurbani Project 2019\n \nHayes Muslim Centre Qurbani 2019 – Uganda\n
URL:https://hayesmuslimcentre.org.uk/event/qurbani-project/
LOCATION:3 Pump Lane\, London\, UB3 3NB\, United Kingdom
CATEGORIES:Community
ATTACH;FMTTYPE=image/jpeg:https://hayesmuslimcentre.org.uk/wp-content/uploads/2020/06/QurbaniProject_thumb.jpg
ORGANIZER;CN="Hayes%20Muslim%20Centre":MAILTO:Info@HayesMuslimCentre.org.uk
END:VEVENT
END:VCALENDAR