BEGIN:VCALENDAR
VERSION:2.0
PRODID:-//Hayes Muslim Centre - ECPv4.6.16//NONSGML v1.0//EN
CALSCALE:GREGORIAN
METHOD:PUBLISH
X-WR-CALNAME:Hayes Muslim Centre
X-ORIGINAL-URL:https://hayesmuslimcentre.org.uk
X-WR-CALDESC:Events for Hayes Muslim Centre
BEGIN:VEVENT
DTSTART;TZID=UTC+1:20260130T200000
DTEND;TZID=UTC+1:20260130T210000
DTSTAMP:20260425T180841
CREATED:20260129T094553Z
LAST-MODIFIED:20260129T095608Z
UID:8497-1769803200-1769806800@hayesmuslimcentre.org.uk
SUMMARY:Manage Emotions
DESCRIPTION:Hayes Muslim Centre is pleased to invite brothers and sisters to a beneficial workshop focusing on understanding and managing emotions through the lens of Islam\, lecture is delivered by Shaykh Athar Mahmood (Imam / Muslim Chaplin). \n🧠 Topics include:\nEmotional experiences in Islam \nThe Islamic model of the human self (Qalb\, Nafs\, ‘Aql\, Ruh) \nInner struggle and emotional conflict \nEmotional regulation from an Islamic framework \nReflection and self-awareness in daily life \nLessons from the lives of the Prophets ﷺ and early scholars \n📅 Date: Friday\, 30th January 2026 \n🕗 Time: After ‘Isha (8:00 PM) \n📍 Venue: Hayes Muslim Centre\, Pump Lane\, UB3 \nThis session will include an educational presentation followed by guided reflection. All are welcome \n \n
URL:https://hayesmuslimcentre.org.uk/event/manage-emotions/
CATEGORIES:Community
ATTACH;FMTTYPE=image/jpeg:https://hayesmuslimcentre.org.uk/wp-content/uploads/2026/01/Manage_emotions_webpost.jpg
END:VEVENT
END:VCALENDAR