BEGIN:VCALENDAR
VERSION:2.0
PRODID:-//Hayes Muslim Centre - ECPv4.6.16//NONSGML v1.0//EN
CALSCALE:GREGORIAN
METHOD:PUBLISH
X-WR-CALNAME:Hayes Muslim Centre
X-ORIGINAL-URL:https://hayesmuslimcentre.org.uk
X-WR-CALDESC:Events for Hayes Muslim Centre
BEGIN:VEVENT
DTSTART;VALUE=DATE:20251026
DTEND;VALUE=DATE:20251027
DTSTAMP:20260426T012552
CREATED:20251024T175607Z
LAST-MODIFIED:20251024T175607Z
UID:8421-1761436800-1761523199@hayesmuslimcentre.org.uk
SUMMARY:Clocks go BACK
DESCRIPTION:Do not forget to back your clocks on Sunday 26th October 2025.For prayer times please check time table published on website or ask any member of staff in the Mosque. \n
URL:https://hayesmuslimcentre.org.uk/event/clocks-go-back/
LOCATION:3 Pump Lane\, London\, UB3 3NB\, United Kingdom
CATEGORIES:Community
ATTACH;FMTTYPE=image/jpeg:https://hayesmuslimcentre.org.uk/wp-content/uploads/2025/10/ClocksGoBack2025.jpg
ORGANIZER;CN="Hayes%20Muslim%20Centre":MAILTO:Info@HayesMuslimCentre.org.uk
END:VEVENT
END:VCALENDAR