BEGIN:VCALENDAR
VERSION:2.0
PRODID:-//Hayes Muslim Centre - ECPv4.6.16//NONSGML v1.0//EN
CALSCALE:GREGORIAN
METHOD:PUBLISH
X-WR-CALNAME:Hayes Muslim Centre
X-ORIGINAL-URL:https://hayesmuslimcentre.org.uk
X-WR-CALDESC:Events for Hayes Muslim Centre
BEGIN:VEVENT
DTSTART;TZID=UTC+0:20200318T093000
DTEND;TZID=UTC+0:20200318T150000
DTSTAMP:20260424T165643
CREATED:20190307T224328Z
LAST-MODIFIED:20200316T112929Z
UID:4937-1584523800-1584543600@hayesmuslimcentre.org.uk
SUMMARY:Postponed: Bric-a-brac Charity Event
DESCRIPTION:Dear brothers and sister this event is postponed due Coronavirus. We will reshedule it soon. \nNew and old Books\, Jewellery\, Toys and lots more for sale. All proceeds go to the Angel Muslim Centre \n \n
URL:https://hayesmuslimcentre.org.uk/event/bric-a-brac-charity-event/
LOCATION:3 Pump Lane\, London\, UB3 3NB\, United Kingdom
CATEGORIES:Fund Rasing
ATTACH;FMTTYPE=image/jpeg:https://hayesmuslimcentre.org.uk/wp-content/uploads/2019/07/hmc_bric_a_brac_charity_event-thumb.jpg
ORGANIZER;CN="Hayes%20Muslim%20Centre":MAILTO:Info@HayesMuslimCentre.org.uk
END:VEVENT
END:VCALENDAR